BEGIN:VCALENDAR
VERSION:2.0
PRODID:-//clubtwentyone.org//NONSGML kigkonsult.se iCalcreator 2.30.10//
CALSCALE:GREGORIAN
METHOD:PUBLISH
UID:6e50108c-8963-4244-b2fc-aa54ed1f167b
X-WR-CALDESC:Cooking 101 is for ages (14+)
X-WR-RELCALID:8ab35c24825690fd9a6fd62befa3ec54
X-WR-TIMEZONE:America/Los_Angeles
BEGIN:VTIMEZONE
TZID:America/Los_Angeles
BEGIN:STANDARD
TZNAME:PST
DTSTART:20251102T020000
TZOFFSETFROM:-0700
TZOFFSETTO:-0800
RDATE:20261101T020000
END:STANDARD
BEGIN:DAYLIGHT
TZNAME:PDT
DTSTART:20260308T020000
TZOFFSETFROM:-0800
TZOFFSETTO:-0700
RDATE:20270314T020000
END:DAYLIGHT
END:VTIMEZONE
BEGIN:VEVENT
UID:ec59d213-d5ea-4aef-af0d-91a1c5e18d44
DTSTAMP:20260423T032437Z
DESCRIPTION:Cooking 101 is for ages (14+)
DTSTART;TZID=America/Los_Angeles:20260414T163000
DTEND;TZID=America/Los_Angeles:20260414T183000
LOCATION:539 North Lake Avenue\, Pasadena\, CA 91101 US
SUMMARY:Cooking 101
END:VEVENT
END:VCALENDAR
