BEGIN:VCALENDAR
VERSION:2.0
PRODID:-//clubtwentyone.org//NONSGML kigkonsult.se iCalcreator 2.30.10//
CALSCALE:GREGORIAN
METHOD:PUBLISH
UID:fc70d12b-727f-4442-9437-6d67c81c4b86
X-WR-CALDESC:
X-WR-RELCALID:10307ddbfcbcc90c8f4cee077b41311b
X-WR-TIMEZONE:America/Los_Angeles
BEGIN:VTIMEZONE
TZID:America/Los_Angeles
BEGIN:STANDARD
TZNAME:PST
DTSTART:20251102T020000
TZOFFSETFROM:-0700
TZOFFSETTO:-0800
RDATE:20261101T020000
END:STANDARD
BEGIN:DAYLIGHT
TZNAME:PDT
DTSTART:20260308T020000
TZOFFSETFROM:-0800
TZOFFSETTO:-0700
RDATE:20270314T020000
END:DAYLIGHT
END:VTIMEZONE
BEGIN:VEVENT
UID:0a501c7b-96f1-42ed-9c86-9f4e8b519398
DTSTAMP:20260423T032453Z
DESCRIPTION:
DTSTART;TZID=America/Los_Angeles:20260414T190000
DTEND;TZID=America/Los_Angeles:20260414T203000
LOCATION:Zoom event
SUMMARY:Introducing Technology to Your Child
END:VEVENT
END:VCALENDAR
