BEGIN:VCALENDAR
VERSION:2.0
PRODID:-//clubtwentyone.org//NONSGML kigkonsult.se iCalcreator 2.30.10//
CALSCALE:GREGORIAN
METHOD:PUBLISH
UID:f8cc6094-5396-45e5-b1e0-8dd3fdaf6c41
X-WR-CALDESC:
X-WR-RELCALID:c7d38de6dffd30758378caf6a2caf184
X-WR-TIMEZONE:America/Los_Angeles
BEGIN:VTIMEZONE
TZID:America/Los_Angeles
BEGIN:STANDARD
TZNAME:PST
DTSTART:20251102T020000
TZOFFSETFROM:-0700
TZOFFSETTO:-0800
RDATE:20261101T020000
END:STANDARD
BEGIN:DAYLIGHT
TZNAME:PDT
DTSTART:20260308T020000
TZOFFSETFROM:-0800
TZOFFSETTO:-0700
RDATE:20270314T020000
END:DAYLIGHT
END:VTIMEZONE
BEGIN:VEVENT
UID:996efdb1-8ee3-46bd-83f8-c66b59f7760f
DTSTAMP:20260423T032227Z
DESCRIPTION:
DTSTART;TZID=America/Los_Angeles:20260415T183000
DTEND;TZID=America/Los_Angeles:20260415T193000
LOCATION:Zoom event
SUMMARY:Wayfinders Program at Fresno State Webinar
END:VEVENT
END:VCALENDAR
