BEGIN:VCALENDAR
VERSION:2.0
PRODID:-//clubtwentyone.org//NONSGML kigkonsult.se iCalcreator 2.30.10//
CALSCALE:GREGORIAN
METHOD:PUBLISH
UID:64d0b9b7-d5b9-4ec4-a989-94138a4ae49b
X-WR-CALDESC:Cooking 101 is for ages (14+)
X-WR-RELCALID:05972ff635a620f79143a299274e2f1c
X-WR-TIMEZONE:America/Los_Angeles
BEGIN:VTIMEZONE
TZID:America/Los_Angeles
BEGIN:STANDARD
TZNAME:PST
DTSTART:20251102T020000
TZOFFSETFROM:-0700
TZOFFSETTO:-0800
RDATE:20261101T020000
END:STANDARD
BEGIN:DAYLIGHT
TZNAME:PDT
DTSTART:20260308T020000
TZOFFSETFROM:-0800
TZOFFSETTO:-0700
RDATE:20270314T020000
END:DAYLIGHT
END:VTIMEZONE
BEGIN:VEVENT
UID:c6830d28-6865-4b2c-ae77-cfbbe021100f
DTSTAMP:20260423T032717Z
DESCRIPTION:Cooking 101 is for ages (14+)
DTSTART;TZID=America/Los_Angeles:20260421T163000
DTEND;TZID=America/Los_Angeles:20260421T183000
LOCATION:539 North Lake Avenue\, Pasadena\, CA 91101 US
SUMMARY:Cooking 101
END:VEVENT
END:VCALENDAR
