BEGIN:VCALENDAR
VERSION:2.0
PRODID:-//clubtwentyone.org//NONSGML kigkonsult.se iCalcreator 2.30.10//
CALSCALE:GREGORIAN
METHOD:PUBLISH
UID:07eaee23-0edc-4ddb-9427-3eaed8aa2c83
X-WR-CALDESC:
X-WR-RELCALID:f7c86d8f0049e12eaf3b729522a8ecc1
X-WR-TIMEZONE:America/Los_Angeles
BEGIN:VTIMEZONE
TZID:America/Los_Angeles
BEGIN:STANDARD
TZNAME:PST
DTSTART:20251102T020000
TZOFFSETFROM:-0700
TZOFFSETTO:-0800
RDATE:20261101T020000
END:STANDARD
BEGIN:DAYLIGHT
TZNAME:PDT
DTSTART:20260308T020000
TZOFFSETFROM:-0800
TZOFFSETTO:-0700
RDATE:20270314T020000
END:DAYLIGHT
END:VTIMEZONE
BEGIN:VEVENT
UID:b07b2489-61d2-44a7-9f92-8889a07e300b
DTSTAMP:20260423T032437Z
DESCRIPTION:
DTSTART;TZID=America/Los_Angeles:20260421T183000
DTEND;TZID=America/Los_Angeles:20260421T193000
LOCATION:Zoom event
SUMMARY:Improvaneer Method class (ONLINE ZOOM CLASS)
END:VEVENT
END:VCALENDAR
