BEGIN:VCALENDAR
VERSION:2.0
PRODID:-//clubtwentyone.org//NONSGML kigkonsult.se iCalcreator 2.30.10//
CALSCALE:GREGORIAN
METHOD:PUBLISH
UID:7ba58719-8291-4dd6-adb8-33c0024e95be
X-WR-CALDESC:Cooking 102 is for ages (16 yrs+ and with some basic cooking s
 kills)
X-WR-RELCALID:5e18cd99b4d94d274b36f140e85b3852
X-WR-TIMEZONE:America/Los_Angeles
BEGIN:VTIMEZONE
TZID:America/Los_Angeles
BEGIN:STANDARD
TZNAME:PST
DTSTART:20251102T020000
TZOFFSETFROM:-0700
TZOFFSETTO:-0800
RDATE:20261101T020000
END:STANDARD
BEGIN:DAYLIGHT
TZNAME:PDT
DTSTART:20260308T020000
TZOFFSETFROM:-0800
TZOFFSETTO:-0700
RDATE:20270314T020000
END:DAYLIGHT
END:VTIMEZONE
BEGIN:VEVENT
UID:a4eb5037-ef78-4ea7-96db-0a6777a9c20e
DTSTAMP:20260423T032314Z
DESCRIPTION:Cooking 102 is for ages (16 yrs+ and with some basic cooking sk
 ills)
DTSTART;TZID=America/Los_Angeles:20260423T163000
DTEND;TZID=America/Los_Angeles:20260423T183000
LOCATION:539 North Lake Avenue\, Pasadena\, CO 91101 US
SUMMARY:Cooking 102
END:VEVENT
END:VCALENDAR
