BEGIN:VCALENDAR
VERSION:2.0
PRODID:-//clubtwentyone.org//NONSGML kigkonsult.se iCalcreator 2.30.10//
CALSCALE:GREGORIAN
METHOD:PUBLISH
UID:eb82b943-40b7-433e-91d1-d23cbde8253f
X-WR-CALDESC:
X-WR-RELCALID:82805e5e80a135af696dbb12851ae1de
X-WR-TIMEZONE:America/Los_Angeles
BEGIN:VTIMEZONE
TZID:America/Los_Angeles
BEGIN:STANDARD
TZNAME:PST
DTSTART:20251102T020000
TZOFFSETFROM:-0700
TZOFFSETTO:-0800
RDATE:20261101T020000
RDATE:20271107T020000
END:STANDARD
BEGIN:DAYLIGHT
TZNAME:PDT
DTSTART:20260308T020000
TZOFFSETFROM:-0800
TZOFFSETTO:-0700
RDATE:20270314T020000
END:DAYLIGHT
END:VTIMEZONE
BEGIN:VEVENT
UID:292e16de-9cf1-49f6-b55d-a759e6511f81
DTSTAMP:20260425T134924Z
DESCRIPTION:
DTSTART;TZID=America/Los_Angeles:20260509T090000
DTEND;TZID=America/Los_Angeles:20260509T100000
LOCATION:539 North Lake Avenue\, Pasadena\, CA 91101 US
SUMMARY:Dual Diagnosis Meeting (IN PERSON)
END:VEVENT
END:VCALENDAR
