BEGIN:VCALENDAR
VERSION:2.0
PRODID:-//clubtwentyone.org//NONSGML kigkonsult.se iCalcreator 2.30.10//
CALSCALE:GREGORIAN
METHOD:PUBLISH
UID:b1ba5536-418c-46e9-8e71-a2a5f2bf5599
X-WR-CALDESC:
X-WR-RELCALID:a071e690ee549fe3b87a67308b4ea7c6
X-WR-TIMEZONE:America/Los_Angeles
BEGIN:VTIMEZONE
TZID:America/Los_Angeles
BEGIN:STANDARD
TZNAME:PST
DTSTART:20251102T020000
TZOFFSETFROM:-0700
TZOFFSETTO:-0800
RDATE:20261101T020000
END:STANDARD
BEGIN:DAYLIGHT
TZNAME:PDT
DTSTART:20260308T020000
TZOFFSETFROM:-0800
TZOFFSETTO:-0700
RDATE:20270314T020000
END:DAYLIGHT
END:VTIMEZONE
BEGIN:VEVENT
UID:5c3b4fb7-c433-479c-95aa-de9fecdc2888
DTSTAMP:20260421T193125Z
DESCRIPTION:
DTSTART;TZID=America/Los_Angeles:20260407T160000
DTEND;TZID=America/Los_Angeles:20260407T173000
LOCATION:
SUMMARY:Meaningful Life Learning Circles Session 4: Making Meaningful Conne
 ctions (ZOOM)
END:VEVENT
END:VCALENDAR
