BEGIN:VCALENDAR
VERSION:2.0
PRODID:-//clubtwentyone.org//NONSGML kigkonsult.se iCalcreator 2.30.10//
CALSCALE:GREGORIAN
METHOD:PUBLISH
UID:0b55a85b-8334-478a-a1b7-21adb5942aa1
X-WR-CALDESC:Zoom link to come
X-WR-RELCALID:0d4432fd39d11398282522605e5ef77d
X-WR-TIMEZONE:America/Los_Angeles
BEGIN:VTIMEZONE
TZID:America/Los_Angeles
BEGIN:STANDARD
TZNAME:PST
DTSTART:20251102T020000
TZOFFSETFROM:-0700
TZOFFSETTO:-0800
RDATE:20261101T020000
END:STANDARD
BEGIN:DAYLIGHT
TZNAME:PDT
DTSTART:20260308T020000
TZOFFSETFROM:-0800
TZOFFSETTO:-0700
RDATE:20270314T020000
END:DAYLIGHT
END:VTIMEZONE
BEGIN:VEVENT
UID:f57de5ca-6694-46f4-879e-113acc051422
DTSTAMP:20260421T192448Z
DESCRIPTION:Zoom link to come
DTSTART;TZID=America/Los_Angeles:20260409T190000
DTEND;TZID=America/Los_Angeles:20260409T203000
LOCATION:
SUMMARY:SDP Together (ZOOM)
END:VEVENT
END:VCALENDAR
