BEGIN:VCALENDAR
VERSION:2.0
PRODID:-//clubtwentyone.org//NONSGML kigkonsult.se iCalcreator 2.30.10//
CALSCALE:GREGORIAN
METHOD:PUBLISH
UID:8d969c1c-634b-45b5-9aff-0eb5b85c9329
X-WR-CALDESC:
X-WR-RELCALID:c65075b2fae53717066deff1fcba1fbd
X-WR-TIMEZONE:America/Los_Angeles
BEGIN:VTIMEZONE
TZID:America/Los_Angeles
BEGIN:STANDARD
TZNAME:PST
DTSTART:20251102T020000
TZOFFSETFROM:-0700
TZOFFSETTO:-0800
RDATE:20261101T020000
END:STANDARD
BEGIN:DAYLIGHT
TZNAME:PDT
DTSTART:20260308T020000
TZOFFSETFROM:-0800
TZOFFSETTO:-0700
RDATE:20270314T020000
END:DAYLIGHT
END:VTIMEZONE
BEGIN:VEVENT
UID:a51d4c70-9325-4470-9901-22fa59776edd
DTSTAMP:20260421T192953Z
DESCRIPTION:
DTSTART;TZID=America/Los_Angeles:20260411T090000
DTEND;TZID=America/Los_Angeles:20260411T120000
LOCATION:539 North Lake Avenue\, Pasadena\, CA 91101 US
SUMMARY:Transition Bootcamp (#2 of 2 IN PERSON spring session)
END:VEVENT
END:VCALENDAR
