BEGIN:VCALENDAR
VERSION:2.0
PRODID:-//clubtwentyone.org//NONSGML kigkonsult.se iCalcreator 2.30.10//
CALSCALE:GREGORIAN
METHOD:PUBLISH
UID:94f18033-0672-4cdf-94ad-ea58ab0494e8
X-WR-CALDESC:
X-WR-RELCALID:d7e9a5e35495690746392000cc3a0a2f
X-WR-TIMEZONE:America/Los_Angeles
BEGIN:VTIMEZONE
TZID:America/Los_Angeles
BEGIN:STANDARD
TZNAME:PST
DTSTART:20251102T020000
TZOFFSETFROM:-0700
TZOFFSETTO:-0800
RDATE:20261101T020000
END:STANDARD
BEGIN:DAYLIGHT
TZNAME:PDT
DTSTART:20260308T020000
TZOFFSETFROM:-0800
TZOFFSETTO:-0700
RDATE:20270314T020000
END:DAYLIGHT
END:VTIMEZONE
BEGIN:VEVENT
UID:ba645032-7e1d-44e1-b38d-a4aab575409d
DTSTAMP:20260421T193100Z
DESCRIPTION:
DTSTART;TZID=America/Los_Angeles:20260414T160000
DTEND;TZID=America/Los_Angeles:20260414T173000
LOCATION:
SUMMARY:Meaningful Life Learning Circles Session 4: Making Meaningful Conne
 ctions (ZOOM)
END:VEVENT
END:VCALENDAR
