BEGIN:VCALENDAR
VERSION:2.0
PRODID:-//clubtwentyone.org//NONSGML kigkonsult.se iCalcreator 2.30.10//
CALSCALE:GREGORIAN
METHOD:PUBLISH
UID:c45188e4-a814-4c99-ac73-ee10d34c982d
X-WR-CALDESC:
X-WR-RELCALID:405a51b922e82ab1b16e8d023b5d3539
X-WR-TIMEZONE:America/Los_Angeles
BEGIN:VTIMEZONE
TZID:America/Los_Angeles
BEGIN:STANDARD
TZNAME:PST
DTSTART:20251102T020000
TZOFFSETFROM:-0700
TZOFFSETTO:-0800
RDATE:20261101T020000
END:STANDARD
BEGIN:DAYLIGHT
TZNAME:PDT
DTSTART:20260308T020000
TZOFFSETFROM:-0800
TZOFFSETTO:-0700
RDATE:20270314T020000
END:DAYLIGHT
END:VTIMEZONE
BEGIN:VEVENT
UID:d4ae87ef-19c4-42da-b38c-da5bb04184c1
DTSTAMP:20260421T192901Z
DESCRIPTION:
DTSTART;TZID=America/Los_Angeles:20260414T183000
DTEND;TZID=America/Los_Angeles:20260414T193000
LOCATION:Zoom event
SUMMARY:Improvaneer Method class (ONLINE ZOOM CLASS)
END:VEVENT
END:VCALENDAR
