BEGIN:VCALENDAR
VERSION:2.0
PRODID:-//clubtwentyone.org//NONSGML kigkonsult.se iCalcreator 2.30.10//
CALSCALE:GREGORIAN
METHOD:PUBLISH
UID:70186dab-5ca8-4374-98e8-73045d41b019
X-WR-CALDESC:Cooking 102 is for ages (16 yrs+ and with some basic cooking s
 kills)
X-WR-RELCALID:03df5a4ea756c42bf3fdd35b1cd21322
X-WR-TIMEZONE:America/Los_Angeles
BEGIN:VTIMEZONE
TZID:America/Los_Angeles
BEGIN:STANDARD
TZNAME:PST
DTSTART:20251102T020000
TZOFFSETFROM:-0700
TZOFFSETTO:-0800
RDATE:20261101T020000
END:STANDARD
BEGIN:DAYLIGHT
TZNAME:PDT
DTSTART:20260308T020000
TZOFFSETFROM:-0800
TZOFFSETTO:-0700
RDATE:20270314T020000
END:DAYLIGHT
END:VTIMEZONE
BEGIN:VEVENT
UID:07db53e0-b1ae-46bf-8d84-bfc2d476849d
DTSTAMP:20260421T192808Z
DESCRIPTION:Cooking 102 is for ages (16 yrs+ and with some basic cooking sk
 ills)
DTSTART;TZID=America/Los_Angeles:20260416T163000
DTEND;TZID=America/Los_Angeles:20260416T183000
LOCATION:539 North Lake Avenue\, Pasadena\, CO 91101 US
SUMMARY:Cooking 102
END:VEVENT
END:VCALENDAR
