BEGIN:VCALENDAR
VERSION:2.0
PRODID:-//clubtwentyone.org//NONSGML kigkonsult.se iCalcreator 2.30.10//
CALSCALE:GREGORIAN
METHOD:PUBLISH
UID:0813045c-6d7c-4fc3-9093-df8e9c9adae0
X-WR-CALDESC:Zoom link to come
X-WR-RELCALID:f13e783e71f9d1e1e12fa6d8de56d8f7
X-WR-TIMEZONE:America/Los_Angeles
BEGIN:VTIMEZONE
TZID:America/Los_Angeles
BEGIN:STANDARD
TZNAME:PST
DTSTART:20251102T020000
TZOFFSETFROM:-0700
TZOFFSETTO:-0800
RDATE:20261101T020000
END:STANDARD
BEGIN:DAYLIGHT
TZNAME:PDT
DTSTART:20260308T020000
TZOFFSETFROM:-0800
TZOFFSETTO:-0700
RDATE:20270314T020000
END:DAYLIGHT
END:VTIMEZONE
BEGIN:VEVENT
UID:e0c31531-b92e-4ebf-9c26-f4d5fceb9e43
DTSTAMP:20260421T192426Z
DESCRIPTION:Zoom link to come
DTSTART;TZID=America/Los_Angeles:20260416T183000
DTEND;TZID=America/Los_Angeles:20260416T203000
LOCATION:
SUMMARY:Transition 101 (ZOOM)
END:VEVENT
END:VCALENDAR
