BEGIN:VCALENDAR
VERSION:2.0
PRODID:-//clubtwentyone.org//NONSGML kigkonsult.se iCalcreator 2.30.10//
CALSCALE:GREGORIAN
METHOD:PUBLISH
UID:8e8875d6-48a3-4ded-a7ea-6f1de8479142
X-WR-CALDESC:Specific time is yet to be determined.
X-WR-RELCALID:d7898cdfdc4654e2ac56952e39e2ef98
X-WR-TIMEZONE:America/Los_Angeles
BEGIN:VTIMEZONE
TZID:America/Los_Angeles
BEGIN:STANDARD
TZNAME:PST
DTSTART:20251102T020000
TZOFFSETFROM:-0700
TZOFFSETTO:-0800
RDATE:20261101T020000
END:STANDARD
BEGIN:DAYLIGHT
TZNAME:PDT
DTSTART:20260308T020000
TZOFFSETFROM:-0800
TZOFFSETTO:-0700
RDATE:20270314T020000
END:DAYLIGHT
END:VTIMEZONE
BEGIN:VEVENT
UID:de4807ca-929f-41a0-ac1c-ca64d061564b
DTSTAMP:20260421T194049Z
DESCRIPTION:Specific time is yet to be determined.
DTSTART;TZID=America/Los_Angeles:20260418T030000
DTEND;TZID=America/Los_Angeles:20260418T030001
LOCATION:Golf and Stuff - Norwalk\, 10555 Firestone Blvd\, Norwalk\, CA 906
 50 US
SUMMARY:Adult Social Group - Miniature Golf/Bumper Boats (Norwalk)
END:VEVENT
END:VCALENDAR
