BEGIN:VCALENDAR
VERSION:2.0
PRODID:-//clubtwentyone.org//NONSGML kigkonsult.se iCalcreator 2.30.10//
CALSCALE:GREGORIAN
METHOD:PUBLISH
UID:3fc73666-349d-4100-80ac-0b94848474f2
X-WR-CALDESC:
X-WR-RELCALID:01238d1c97ce45e80c0a3f52598be7f9
X-WR-TIMEZONE:America/Los_Angeles
BEGIN:VTIMEZONE
TZID:America/Los_Angeles
BEGIN:STANDARD
TZNAME:PST
DTSTART:20251102T020000
TZOFFSETFROM:-0700
TZOFFSETTO:-0800
RDATE:20261101T020000
END:STANDARD
BEGIN:DAYLIGHT
TZNAME:PDT
DTSTART:20260308T020000
TZOFFSETFROM:-0800
TZOFFSETTO:-0700
RDATE:20270314T020000
END:DAYLIGHT
END:VTIMEZONE
BEGIN:VEVENT
UID:696ed31d-bc08-4f10-b471-bc48645c7d7d
DTSTAMP:20260421T193054Z
DESCRIPTION:
DTSTART;TZID=America/Los_Angeles:20260421T160000
DTEND;TZID=America/Los_Angeles:20260421T173000
LOCATION:
SUMMARY:Meaningful Life Learning Circles Session 4: Making Meaningful Conne
 ctions (ZOOM)
END:VEVENT
END:VCALENDAR
