BEGIN:VCALENDAR
VERSION:2.0
PRODID:-//clubtwentyone.org//NONSGML kigkonsult.se iCalcreator 2.30.10//
CALSCALE:GREGORIAN
METHOD:PUBLISH
UID:1b4be588-4093-43ae-ba47-a13251c5e589
X-WR-CALDESC:
X-WR-RELCALID:4661d4da1950ce91f9de083df91be679
X-WR-TIMEZONE:America/Los_Angeles
BEGIN:VTIMEZONE
TZID:America/Los_Angeles
BEGIN:STANDARD
TZNAME:PST
DTSTART:20251102T020000
TZOFFSETFROM:-0700
TZOFFSETTO:-0800
RDATE:20261101T020000
END:STANDARD
BEGIN:DAYLIGHT
TZNAME:PDT
DTSTART:20260308T020000
TZOFFSETFROM:-0800
TZOFFSETTO:-0700
RDATE:20270314T020000
END:DAYLIGHT
END:VTIMEZONE
BEGIN:VEVENT
UID:492f0d0d-19b6-40bb-98cb-a2c189dee941
DTSTAMP:20260421T193403Z
DESCRIPTION:
DTSTART;TZID=America/Los_Angeles:20260423T160000
DTEND;TZID=America/Los_Angeles:20260423T173000
LOCATION:
SUMMARY:Meaningful Life Learning Circles Session 4 - Making Meaningful Conn
 ections (ZOOM)
END:VEVENT
END:VCALENDAR
