BEGIN:VCALENDAR
VERSION:2.0
PRODID:-//clubtwentyone.org//NONSGML kigkonsult.se iCalcreator 2.30.10//
CALSCALE:GREGORIAN
METHOD:PUBLISH
UID:6be32930-c7ae-4c3a-96c5-f1630748daaa
X-WR-CALDESC:Zoom link to come
X-WR-RELCALID:3f4860ce67575adeefc855330d67fe4d
X-WR-TIMEZONE:America/Los_Angeles
BEGIN:VTIMEZONE
TZID:America/Los_Angeles
BEGIN:STANDARD
TZNAME:PST
DTSTART:20251102T020000
TZOFFSETFROM:-0700
TZOFFSETTO:-0800
RDATE:20261101T020000
END:STANDARD
BEGIN:DAYLIGHT
TZNAME:PDT
DTSTART:20260308T020000
TZOFFSETFROM:-0800
TZOFFSETTO:-0700
RDATE:20270314T020000
END:DAYLIGHT
END:VTIMEZONE
BEGIN:VEVENT
UID:4b70ae8e-726a-4bab-b2f4-870ba7d850f6
DTSTAMP:20260421T192623Z
DESCRIPTION:Zoom link to come
DTSTART;TZID=America/Los_Angeles:20260423T190000
DTEND;TZID=America/Los_Angeles:20260423T203000
LOCATION:
SUMMARY:Educational Partnership Parent Session (ZOOM)
END:VEVENT
END:VCALENDAR
