BEGIN:VCALENDAR
VERSION:2.0
PRODID:-//clubtwentyone.org//NONSGML kigkonsult.se iCalcreator 2.30.10//
CALSCALE:GREGORIAN
METHOD:PUBLISH
UID:c012fa5e-d28f-4d65-a930-60baa4d613f2
X-WR-CALDESC:
X-WR-RELCALID:4e7f7ae4e69e88126ec64b4765e5e2ad
X-WR-TIMEZONE:America/Los_Angeles
BEGIN:VTIMEZONE
TZID:America/Los_Angeles
BEGIN:STANDARD
TZNAME:PST
DTSTART:20251102T020000
TZOFFSETFROM:-0700
TZOFFSETTO:-0800
RDATE:20261101T020000
END:STANDARD
BEGIN:DAYLIGHT
TZNAME:PDT
DTSTART:20260308T020000
TZOFFSETFROM:-0800
TZOFFSETTO:-0700
RDATE:20270314T020000
END:DAYLIGHT
END:VTIMEZONE
BEGIN:VEVENT
UID:ce63f5f2-c4d7-4df1-9d78-ad774f5d307c
DTSTAMP:20260421T192613Z
DESCRIPTION:
DTSTART;TZID=America/Los_Angeles:20260425T100000
DTEND;TZID=America/Los_Angeles:20260425T150000
LOCATION:Club 21 Learning and Resource Center\, 539 North Lake Avenue\, Pas
 adena\, CA 91101 US
SUMMARY:Young Adult Conference
END:VEVENT
END:VCALENDAR
