BEGIN:VCALENDAR
VERSION:2.0
PRODID:-//clubtwentyone.org//NONSGML kigkonsult.se iCalcreator 2.30.10//
CALSCALE:GREGORIAN
METHOD:PUBLISH
UID:1bfe5e5d-cef8-49fc-863b-04b580b67341
X-WR-CALDESC:Cooking 101 is for ages (14+)
X-WR-RELCALID:97df6e255baf034e997eb127e52ce2d3
X-WR-TIMEZONE:America/Los_Angeles
BEGIN:VTIMEZONE
TZID:America/Los_Angeles
BEGIN:STANDARD
TZNAME:PST
DTSTART:20251102T020000
TZOFFSETFROM:-0700
TZOFFSETTO:-0800
RDATE:20261101T020000
END:STANDARD
BEGIN:DAYLIGHT
TZNAME:PDT
DTSTART:20260308T020000
TZOFFSETFROM:-0800
TZOFFSETTO:-0700
RDATE:20270314T020000
END:DAYLIGHT
END:VTIMEZONE
BEGIN:VEVENT
UID:831f7edc-43b6-40d3-97cc-ed87d240aa0d
DTSTAMP:20260421T192547Z
DESCRIPTION:Cooking 101 is for ages (14+)
DTSTART;TZID=America/Los_Angeles:20260428T163000
DTEND;TZID=America/Los_Angeles:20260428T183000
LOCATION:539 North Lake Avenue\, Pasadena\, CA 91101 US
SUMMARY:Cooking 101
END:VEVENT
END:VCALENDAR
