BEGIN:VCALENDAR
VERSION:2.0
PRODID:-//clubtwentyone.org//NONSGML kigkonsult.se iCalcreator 2.30.10//
CALSCALE:GREGORIAN
METHOD:PUBLISH
UID:218fb357-488e-4b56-9bf0-aaca04beaaa9
X-WR-CALDESC:Zoom link to come
X-WR-RELCALID:8e036bedf8f203e1b1cdc62916bb5d80
X-WR-TIMEZONE:America/Los_Angeles
BEGIN:VTIMEZONE
TZID:America/Los_Angeles
BEGIN:STANDARD
TZNAME:PST
DTSTART:20251102T020000
TZOFFSETFROM:-0700
TZOFFSETTO:-0800
RDATE:20261101T020000
END:STANDARD
BEGIN:DAYLIGHT
TZNAME:PDT
DTSTART:20260308T020000
TZOFFSETFROM:-0800
TZOFFSETTO:-0700
RDATE:20270314T020000
END:DAYLIGHT
END:VTIMEZONE
BEGIN:VEVENT
UID:d83975da-2833-4ed5-826b-a87636cdecd7
DTSTAMP:20260421T193238Z
DESCRIPTION:Zoom link to come
DTSTART;TZID=America/Los_Angeles:20260430T160000
DTEND;TZID=America/Los_Angeles:20260430T173000
LOCATION:
SUMMARY:Meaningful Life Learning Circles Session 5 - Grief Share and Coping
  Skills toolbox (ZOOM)
END:VEVENT
END:VCALENDAR
