BEGIN:VCALENDAR
VERSION:2.0
PRODID:-//clubtwentyone.org//NONSGML kigkonsult.se iCalcreator 2.30.10//
CALSCALE:GREGORIAN
METHOD:PUBLISH
UID:efb8fd65-c1fb-40b7-a4d6-18f099509f29
X-WR-CALDESC:Cooking 102 is for ages (16 yrs+ and with some basic cooking s
 kills)
X-WR-RELCALID:0c0c80fe020a5aded811f1887418c50a
X-WR-TIMEZONE:America/Los_Angeles
BEGIN:VTIMEZONE
TZID:America/Los_Angeles
BEGIN:STANDARD
TZNAME:PST
DTSTART:20251102T020000
TZOFFSETFROM:-0700
TZOFFSETTO:-0800
RDATE:20261101T020000
END:STANDARD
BEGIN:DAYLIGHT
TZNAME:PDT
DTSTART:20260308T020000
TZOFFSETFROM:-0800
TZOFFSETTO:-0700
RDATE:20270314T020000
END:DAYLIGHT
END:VTIMEZONE
BEGIN:VEVENT
UID:b4f79614-2ae0-4b5c-8146-a0bdd177ead3
DTSTAMP:20260421T192725Z
DESCRIPTION:Cooking 102 is for ages (16 yrs+ and with some basic cooking sk
 ills)
DTSTART;TZID=America/Los_Angeles:20260430T163000
DTEND;TZID=America/Los_Angeles:20260430T183000
LOCATION:539 North Lake Avenue\, Pasadena\, CO 91101 US
SUMMARY:Cooking 102
END:VEVENT
END:VCALENDAR
